BEGIN:VCALENDAR
VERSION:2.0
CALSCALE:GREGORIAN
METHOD:PUBLISH
PRODID://SFCC//1402063
BEGIN:VEVENT
DTSTAMP:20260424T124205
VTIMEZONE:America/New_York
DTSTART:20260122T230000Z
DTEND:20260123T010000Z
UID:1402063
SUMMARY:Gold Out Senior Night Gymnastics
LOCATION:South County High School , 8501 Silverbrook Rd, Lorton, VA, 22079
DESCRIPTION:Gold Out Senior Night Gymnastics\n\n01/22/26 06:00 PM EST\n - 01/22/26 08:00 PM EST\Description:\nGold Out sponsored by Chamber member Emma Jordon Kidz Fighting Cancer\Details:\nJoin the fight against pediatric cancer at the upcoming Gold Out sponsored by Chamber member Emma Jordon Kidz Fighting Cancer Foundation on Thursday, January 22, 2026. Join us for Senior Night at the SCHS Girls Gymnastics meet at 6pm!\Location:\nSouth County High School \n8501 Silverbrook Rd\nLorton, VA 22079
X-ALT-DESC;FMTTYPE=text/html:Gold Out Senior Night Gymnastics<br /><br />01/22/26 06:00 PM EST - 01/22/26 08:00 PM EST<br />Description:<br />Gold Out sponsored by Chamber member Emma Jordon Kidz Fighting Cancer<br />Details:<br />Join the fight against pediatric cancer at the upcoming Gold Out sponsored by Chamber member Emma Jordon Kidz Fighting Cancer Foundation on Thursday, January 22, 2026. Join us for Senior Night at the SCHS Girls Gymnastics meet at 6pm!<br />Location:<br />South County High School <br />8501 Silverbrook Rd<br />Lorton, VA 22079
PRIORITY:3
TRANSP:TRANSPARENT
BEGIN:VALARM
TRIGGER:-PT5M
ACTION:DISPLAY
DESCRIPTION:Reminder
END:VALARM
END:VEVENT
END:VCALENDAR
