BEGIN:VCALENDAR
VERSION:2.0
CALSCALE:GREGORIAN
METHOD:PUBLISH
PRODID://SFCC//1402066
BEGIN:VEVENT
DTSTAMP:20260424T111748
VTIMEZONE:America/New_York
DTSTART:20260203T224500Z
DTEND:20260204T020000Z
UID:1402066
SUMMARY:Gold Out Emma Jordon Kidz Fighting Cancer Foundation
LOCATION:, VA
DESCRIPTION:Gold Out Emma Jordon Kidz Fighting Cancer Foundation\n\n02/03/26 05:45 PM EST\n - 02/03/26 09:00 PM EST\Description:\nGold Out sponsored by Chamber member Emma Jordon Kidz Fighting Cancer Foundation\Details:\nJoin the fight against pediatric cancer at the upcoming Gold Out sponsored by Chamber member Emma Jordon Kidz Fighting Cancer Foundation on Tuesday, February 3, 2026. The SCHS Boys Varsity team plays at 5:45p and the Girls Varsity team plays at 7:30p. Join us!
X-ALT-DESC;FMTTYPE=text/html:Gold Out Emma Jordon Kidz Fighting Cancer Foundation<br /><br />02/03/26 05:45 PM EST - 02/03/26 09:00 PM EST<br />Description:<br />Gold Out sponsored by Chamber member Emma Jordon Kidz Fighting Cancer Foundation<br />Details:<br />Join the fight against pediatric cancer at the upcoming Gold Out sponsored by Chamber member Emma Jordon Kidz Fighting Cancer Foundation on Tuesday, February 3, 2026. The SCHS Boys Varsity team plays at 5:45p and the Girls Varsity team plays at 7:30p. Join us!
PRIORITY:3
TRANSP:TRANSPARENT
BEGIN:VALARM
TRIGGER:-PT5M
ACTION:DISPLAY
DESCRIPTION:Reminder
END:VALARM
END:VEVENT
END:VCALENDAR
