BEGIN:VCALENDAR
VERSION:2.0
CALSCALE:GREGORIAN
METHOD:PUBLISH
PRODID://SFCC//1402180
BEGIN:VEVENT
DTSTAMP:20260424T123746
VTIMEZONE:America/New_York
DTSTART:20260117T010000Z
DTEND:20260126T030000Z
UID:1402180
SUMMARY:Into the Woods
LOCATION:Workhouse Arts Center , 9518 Workhouse Way, Lorton, VA, 22079
DESCRIPTION:Into the Woods\n\n01/16/26 08:00 PM EST\n - 01/25/26 10:00 PM EST\Description:\nProduction of Into the Woods, Workhouse Arts Center\Details:\nProduction of Into the Woods, Workhouse Arts Center, Fridays and Saturdays at 8pm, Sundays at 2pm through Sunday Jan 25, 2026.\Location:\nWorkhouse Arts Center \n9518 Workhouse Way\nLorton, VA 22079
X-ALT-DESC;FMTTYPE=text/html:Into the Woods<br /><br />01/16/26 08:00 PM EST - 01/25/26 10:00 PM EST<br />Description:<br />Production of Into the Woods, Workhouse Arts Center<br />Details:<br />Production of Into the Woods, Workhouse Arts Center, Fridays and Saturdays at 8pm, Sundays at 2pm through Sunday Jan 25, 2026.<br />Location:<br />Workhouse Arts Center <br />9518 Workhouse Way<br />Lorton, VA 22079
PRIORITY:3
TRANSP:TRANSPARENT
BEGIN:VALARM
TRIGGER:-PT5M
ACTION:DISPLAY
DESCRIPTION:Reminder
END:VALARM
END:VEVENT
END:VCALENDAR
