BEGIN:VCALENDAR
VERSION:2.0
CALSCALE:GREGORIAN
METHOD:PUBLISH
PRODID://SFCC//1410984
BEGIN:VEVENT
DTSTAMP:20260424T093443
VTIMEZONE:America/Denver
DTSTART:20260331T010000Z
DTEND:20260331T030000Z
UID:1410984
SUMMARY:The Redeemer: Music on the Life of Jesus the Christ
LOCATION:Abravanel Hall, 123 West South Temple, Salt Lake City, UT, 84101
DESCRIPTION:The Redeemer: Music on the Life of Jesus the Christ\n\n03/30/26 07:00 PM MST\n - 03/30/26 09:00 PM MST\Description:\nCelebrate Easter by experiencing "The Redeemer: Music on the Life of Jesus the Christ." This profoundly spiritual and stirring show is centered around the life and redemptive mission of The Redeemer Jesus Christ.\n \n\nGrammy-nominated violinist Jenny Oaks Baker, Emmy Award-winning composer and conductor Kurt Bestor, acclaimed narrator and tenor Dallyn Vail Bayles, Tony Award-winning soprano Lisa Hopkins Seegmiller, baritone soloist Preston Yates, and cellist Nicole Pinnell join to present this glorious multi-media musical journey. Audiences will be thrilled and inspired by beloved hymns, soul-filling original compositions, and magnificent selections from Handel’s Messiah.\n \n\nThe Redeemer 2026 Tour is presented by SoulFill Music Foundation. Please join us in celebrating His #GreaterLove.\n\n \Details:\n$15-$65\Location:\nAbravanel Hall\n123 West South Temple\nSalt Lake City, UT 84101
X-ALT-DESC;FMTTYPE=text/html:The Redeemer: Music on the Life of Jesus the Christ<br /><br />03/30/26 07:00 PM MST - 03/30/26 09:00 PM MST<br />Description:<br /><p dir="ltr">Celebrate Easter by experiencing &quot;The Redeemer: Music on the Life of Jesus the Christ.&quot; This profoundly spiritual and stirring show is centered around the life and redemptive mission of The Redeemer Jesus Christ.</p>
&nbsp;

<p dir="ltr">Grammy-nominated violinist Jenny Oaks Baker, Emmy Award-winning composer and conductor Kurt Bestor, acclaimed narrator and tenor Dallyn Vail Bayles, Tony Award-winning soprano Lisa Hopkins Seegmiller, baritone soloist Preston Yates, and cellist Nicole Pinnell join to present this glorious multi-media musical journey. Audiences will be thrilled and inspired by beloved hymns, soul-filling original compositions, and magnificent selections from Handel&rsquo;s Messiah.</p>
&nbsp;

<p dir="ltr">The Redeemer 2026 Tour is presented by SoulFill Music Foundation. Please join us in celebrating His #GreaterLove.</p>
<br />
&nbsp;<br />Details:<br />$15-$65<br />Location:<br />Abravanel Hall<br />123 West South Temple<br />Salt Lake City, UT 84101
PRIORITY:3
TRANSP:TRANSPARENT
BEGIN:VALARM
TRIGGER:-PT5M
ACTION:DISPLAY
DESCRIPTION:Reminder
END:VALARM
END:VEVENT
END:VCALENDAR
