BEGIN:VCALENDAR
VERSION:2.0
CALSCALE:GREGORIAN
METHOD:PUBLISH
PRODID://SFCC//1422205
BEGIN:VEVENT
DTSTAMP:20260424T105051
VTIMEZONE:America/New_York
DTSTART:20260408T220000Z
DTEND:20260409T000000Z
UID:1422205
SUMMARY:April Networking STIR hosted by Trademasters Home Services
LOCATION:Laurel Hill Golf Club, 8701 Laurel Crest Dr , Lorton, VA, 22079
DESCRIPTION:April Networking STIR hosted by Trademasters Home Services\n\n04/08/26 06:00 PM EST\n - 04/08/26 08:00 PM EST\Description:\nYou’re invited to an evening of high-impact networking and a special member milestone you won’t want to miss.\nJoin us as Trademasters unveils its brand-new Home Services Membership Program—a comprehensive offering designed to provide homeowners with ongoing oversight and maintenance of everything for their homes. This includes HVAC, plumbing, electrical, painting, roofing, handyman, and other related services under one streamlined membership model.\nEnjoy an evening of meaningful connections, light bites, and forward-thinking conversation. The energy will be high, the introductions will be valuable, and the conversations will continue long after the event ends.\n \nSouth Fairfax Chamber of Commerce Networking STIR\nWednesday, April 8, 2026\n6p – 8p\nLaurel Hill Golf Club\n8701 Laurel Crest Dr\n \nEnjoy complimentary appetizers and cash bar. Brief sponsor presentation at 6:30p\n \Details:\nSouth Fairfax Chamber of Commerce Networking STIR\nWednesday, April 8, 2026\n6p – 8p\nLaurel Hill Golf Club\n8701 Laurel Crest Dr\Location:\nLaurel Hill Golf Club\n8701 Laurel Crest Dr \nLorton, VA 22079
X-ALT-DESC;FMTTYPE=text/html:April Networking STIR hosted by Trademasters Home Services<br /><br />04/08/26 06:00 PM EST - 04/08/26 08:00 PM EST<br />Description:<br />You&rsquo;re invited to an evening of high-impact networking and a special member milestone you won&rsquo;t want to miss.<br />
Join us as <strong>Trademasters</strong> unveils its brand-new Home Services Membership Program&mdash;a comprehensive offering designed to provide homeowners with ongoing oversight and maintenance of everything for their homes. This includes HVAC, plumbing, electrical, painting, roofing, handyman, and other related services under one streamlined membership model.<br />
Enjoy an evening of meaningful connections, light bites, and forward-thinking conversation. The energy will be high, the introductions will be valuable, and the conversations will continue long after the event ends.<br />
&nbsp;<br />
<strong>South Fairfax Chamber of Commerce Networking STIR</strong><br />
<strong>Wednesday, April 8, 2026</strong><br />
<strong>6p &ndash; 8p</strong><br />
<strong>Laurel Hill Golf Club</strong><br />
<strong>8701 Laurel Crest Dr</strong><br />
&nbsp;<br />
Enjoy complimentary appetizers and cash bar. Brief sponsor presentation at 6:30p<br />
&nbsp;<br />Details:<br /><strong>South Fairfax Chamber of Commerce Networking STIR</strong><br />
<strong>Wednesday, April 8, 2026</strong><br />
<strong>6p &ndash; 8p</strong><br />
<strong>Laurel Hill Golf Club</strong><br />
<strong>8701 Laurel Crest Dr</strong><br />Location:<br />Laurel Hill Golf Club<br />8701 Laurel Crest Dr <br />Lorton, VA 22079
PRIORITY:3
TRANSP:TRANSPARENT
BEGIN:VALARM
TRIGGER:-PT5M
ACTION:DISPLAY
DESCRIPTION:Reminder
END:VALARM
END:VEVENT
END:VCALENDAR
