BEGIN:VCALENDAR
VERSION:2.0
CALSCALE:GREGORIAN
METHOD:PUBLISH
PRODID://SFCC//1427808
BEGIN:VEVENT
DTSTAMP:20260424T082133
VTIMEZONE:America/New_York
DTSTART:20260618T130000Z
DTEND:20260618T143000Z
UID:1427808
SUMMARY:SFCC Executive Board Meeting
LOCATION:Virtual, Lorton, VA, 22079
DESCRIPTION:SFCC Executive Board Meeting\n\n06/18/26 09:00 AM EST\n - 06/18/26 10:30 AM EST\Description:\nVirtual monthly meeting of the SFCC Board\Details:\nMeeting of SFCC Board\Location:\nVirtual\n\nLorton, VA 22079
X-ALT-DESC;FMTTYPE=text/html:SFCC Executive Board Meeting<br /><br />06/18/26 09:00 AM EST - 06/18/26 10:30 AM EST<br />Description:<br />Virtual monthly meeting of the SFCC Board<br />Details:<br />Meeting of SFCC Board<br />Location:<br />Virtual<br /><br />Lorton, VA 22079
PRIORITY:3
TRANSP:TRANSPARENT
BEGIN:VALARM
TRIGGER:-PT5M
ACTION:DISPLAY
DESCRIPTION:Reminder
END:VALARM
END:VEVENT
END:VCALENDAR
